BEGIN:VCALENDAR
VERSION:2.0
PRODID:-//CBCS - ECPv6.15.20//NONSGML v1.0//EN
CALSCALE:GREGORIAN
METHOD:PUBLISH
X-ORIGINAL-URL:https://cbcs.be
X-WR-CALDESC:Évènements pour CBCS
REFRESH-INTERVAL;VALUE=DURATION:PT1H
X-Robots-Tag:noindex
X-PUBLISHED-TTL:PT1H
BEGIN:VTIMEZONE
TZID:Europe/Brussels
BEGIN:DAYLIGHT
TZOFFSETFROM:+0100
TZOFFSETTO:+0200
TZNAME:CEST
DTSTART:20200329T010000
END:DAYLIGHT
BEGIN:STANDARD
TZOFFSETFROM:+0200
TZOFFSETTO:+0100
TZNAME:CET
DTSTART:20201025T010000
END:STANDARD
BEGIN:DAYLIGHT
TZOFFSETFROM:+0100
TZOFFSETTO:+0200
TZNAME:CEST
DTSTART:20210328T010000
END:DAYLIGHT
BEGIN:STANDARD
TZOFFSETFROM:+0200
TZOFFSETTO:+0100
TZNAME:CET
DTSTART:20211031T010000
END:STANDARD
BEGIN:DAYLIGHT
TZOFFSETFROM:+0100
TZOFFSETTO:+0200
TZNAME:CEST
DTSTART:20220327T010000
END:DAYLIGHT
BEGIN:STANDARD
TZOFFSETFROM:+0200
TZOFFSETTO:+0100
TZNAME:CET
DTSTART:20221030T010000
END:STANDARD
END:VTIMEZONE
BEGIN:VEVENT
DTSTART;TZID=Europe/Brussels:20211025T200000
DTEND;TZID=Europe/Brussels:20211025T220000
DTSTAMP:20260421T095105
CREATED:20210930T141925Z
LAST-MODIFIED:20211001T105023Z
UID:10000129-1635192000-1635199200@cbcs.be
SUMMARY:Qui a tué Mamie ?
DESCRIPTION:25/10 – Festival des Libertés \n\n\n\nLes mesures sanitaires en procès.PROCÈS – FICTION FR • 120’ \n\n\n\n\n\nMonique Wouters est décédée le 16 avril 2020. Elle vivait en maison de repos et était privée de visite à cause de la pandémie. Elle est morte de solitude et de chagrin. La directrice de l’établissement est poursuivie en justice par le fils de Mme Wouters qui lui reproche d’avoir abandonné sa mère sans lui apporter les soins et l’attention nécessaires. Coupable ou innocente ? C’est le public qui décidera de l’issue de ce procès fictif\, qui interroge la pertinence et les limites des mesures sanitaires contre la pandémie.
URL:https://cbcs.be/event/29958/
ATTACH;FMTTYPE=image/jpeg:https://cbcs.be/wp-content/uploads/2021/09/@Mathew-MacQuarrie-on-unsplach.jpg
END:VEVENT
END:VCALENDAR