BEGIN:VCALENDAR
VERSION:2.0
PRODID:-//CBCS - ECPv6.15.20//NONSGML v1.0//EN
CALSCALE:GREGORIAN
METHOD:PUBLISH
X-ORIGINAL-URL:https://cbcs.be
X-WR-CALDESC:Évènements pour CBCS
REFRESH-INTERVAL;VALUE=DURATION:PT1H
X-Robots-Tag:noindex
X-PUBLISHED-TTL:PT1H
BEGIN:VTIMEZONE
TZID:Europe/Brussels
BEGIN:DAYLIGHT
TZOFFSETFROM:+0100
TZOFFSETTO:+0200
TZNAME:CEST
DTSTART:20220327T010000
END:DAYLIGHT
BEGIN:STANDARD
TZOFFSETFROM:+0200
TZOFFSETTO:+0100
TZNAME:CET
DTSTART:20221030T010000
END:STANDARD
BEGIN:DAYLIGHT
TZOFFSETFROM:+0100
TZOFFSETTO:+0200
TZNAME:CEST
DTSTART:20230326T010000
END:DAYLIGHT
BEGIN:STANDARD
TZOFFSETFROM:+0200
TZOFFSETTO:+0100
TZNAME:CET
DTSTART:20231029T010000
END:STANDARD
BEGIN:DAYLIGHT
TZOFFSETFROM:+0100
TZOFFSETTO:+0200
TZNAME:CEST
DTSTART:20240331T010000
END:DAYLIGHT
BEGIN:STANDARD
TZOFFSETFROM:+0200
TZOFFSETTO:+0100
TZNAME:CET
DTSTART:20241027T010000
END:STANDARD
BEGIN:DAYLIGHT
TZOFFSETFROM:+0100
TZOFFSETTO:+0200
TZNAME:CEST
DTSTART:20250330T010000
END:DAYLIGHT
BEGIN:STANDARD
TZOFFSETFROM:+0200
TZOFFSETTO:+0100
TZNAME:CET
DTSTART:20251026T010000
END:STANDARD
BEGIN:DAYLIGHT
TZOFFSETFROM:+0100
TZOFFSETTO:+0200
TZNAME:CEST
DTSTART:20260329T010000
END:DAYLIGHT
BEGIN:STANDARD
TZOFFSETFROM:+0200
TZOFFSETTO:+0100
TZNAME:CET
DTSTART:20261025T010000
END:STANDARD
END:VTIMEZONE
BEGIN:VEVENT
DTSTART;TZID=Europe/Brussels:20251215T083000
DTEND;TZID=Europe/Brussels:20251215T170000
DTSTAMP:20260421T080243
CREATED:20250912T105005Z
LAST-MODIFIED:20250912T105401Z
UID:10000467-1765787400-1765818000@cbcs.be
SUMMARY:3ème université d'été des IMMENSES
DESCRIPTION:Au programme de cette 3e édition : \nThème A – Dignité\, respect\, mérite ou fierté ?\nHonte\, humiliation\, regard jugeant : la dignité des immenses est constamment remise en jeu. Mais où est la vraie ligne rouge : dignité\, respect… ou nécropolitique ? \nThème B – Les immenses travaillent-iels ?\nSurvie\, bénévolat\, militance\, représentation : à partir de quand parle-t-on de « travail » ? Et pourquoi leur engagement reste-t-il toujours suspect ? \nThème C – Où est l’intérêt supérieur des minimenses ?\nSéparer ou protéger ? Derrière l’« intérêt de l’enfant »\, placements et psychiatrisation punissent souvent les parents… au risque d’effacer l’amour et le droit à un chez-soi. \nPour l’analyse de chacun des thèmes retrouvez : \n\nDes expert·es de terrain : des immenses* dont le nom est à confirmer\nDes expert·es du secteur (travailleur·ses de terrain) : Kris Meurant (Transit) • Christine Mahy (RWLP) • Thomas Lambrechts (Capuche) / Eric Picard (pédopsychiatre)\nDes expert·es en chambre (universitaires) : Gabor Tverdota (ARC) • Simon Lemaire (CNRS) • Anne-Catherine Rasson (UNamur)\nDes expert·es du pouvoir (politiques) : David Weystman (MR – CPAS de Bruxelles-Ville) • Françoise De Smedt (PTB – parlementaire) • Solayman Laqdim (DGDE)\n\nPour le programme complet et les inscriptions ! \nL’ensemble du travail de cette journée sera repris dans l’ouvrage Valeur et immensité (à paraître au printemps 2026)\, qu’il vous est possible de précommander au moment de l’inscription. Les précommandes nous sont utiles pour permettre d’en assurer l’édition et les impressions. \nL’UEI se veut gratuite et accessible au plus grand nombre. Néanmoins\, comme tout le secteur social santé\, l’UEI souffre de l’absence de financements. Si vous voulez soutenir le projet et faciliter son organisation\, il vous est également possible de participer à prix libre (avec ou sans précommande du livre). \nToutes les infos sont reprises sur le site du Forum-Bruxelles contre les inégalités 
URL:https://cbcs.be/event/3eme-universite-dete-des-immenses/
LOCATION:ULB auditoire R42\, 505\, Avenue FD Roosevelt\, Bruxelles\, 1050\, Belgique
CATEGORIES:NL
END:VEVENT
BEGIN:VEVENT
DTSTART;TZID=Europe/Brussels:20230525T200000
DTEND;TZID=Europe/Brussels:20230525T223000
DTSTAMP:20260421T080243
CREATED:20230508T152620Z
LAST-MODIFIED:20230608T202735Z
UID:10000273-1685044800-1685053800@cbcs.be
SUMMARY:Toutes nos vies en numérique ? Le grand débat !
DESCRIPTION:Par bribes et morceaux\, un jour et si nous n’y prenons garde\, tous les pans de notre vie basculeront dans le numérique. Pour une place en crèche\, à l’école\, Actiris\, la mutuelle\, la bourse d’études\, les impôts\, la pension… Du berceau au tombeau\, tout sera réglé comme du papier… dématérialisé. \n\n\n\nProchainement\, le parlement régional bruxellois va entamer l’examen d’un projet d’ordonnance « Bruxelles numérique » porté par le ministre Bernard Clerfayt\, en charge de la transition numérique. Cette ordonnance fera basculer dans le numérique toutes les administrations communales et régionales. En l’état actuel du texte\, sans obligation claire en matière de guichets et de services téléphoniques de qualité pour garantir un accueil humain dans les services publics. \n\n\n\nDepuis plusieurs mois\, plus de deux cents associations locales et régionales bruxelloises sont mobilisées sur la question de la précarisation numérique (qui touche près d’un Belge sur deux d’après une étude de la Fondation Roi Baudouin) et qui risque de s’aggraver avec cette ordonnance.Cette mobilisation s’est traduite notamment par des manifestations le 6 décembre à Bruxelles\, le 18 avril à Anderlecht et le 27 avril à Molenbeek. Par ailleurs\, récemment\, UNIA a dénoncé la dématérialisation des services d’intérêt général et BRUPARTNERS a remis un avis très critique sur le projet d’ordonnance.  \n\n\n\nDans ce contexte\, Ce Qui Nous Arrive organise un débat le jeudi 25 mai à 20h\, afin d’interpeller l’ensemble des groupes politiques francophones représentés au parlement régional. \n\n\n\nLe Parti Socialiste\, Écolo\, le MR\, le PTB\, Défi et les Engagés ont confirmé leur participation à cet évènement. \n\n\n\nLien vers les inscriptions \n\n\n\nSuite à votre inscription\, nous vous enverrons\, par mail\, toutes les précisions pratiques afin de nous rejoindre à cette rencontre. 
URL:https://cbcs.be/event/toutes-nos-vies-en-numerique-le-grand-debat/
LOCATION:ULB auditoire R42\, 505\, Avenue FD Roosevelt\, Bruxelles\, 1050\, Belgique
END:VEVENT
END:VCALENDAR